

BEGIN:VCALENDAR
VERSION:2.0
PRODID:-//UDC Suisse //NONSGML Events //EN
CALSCALE:GREGORIAN
X-WR-CALNAME:UDC Suisse
BEGIN:VEVENT
CREATED:20180314T104651Z
UID:10967
DTEND:20180310T120000
DTSTART:20180310T100000
DTSTAMP:20260420T172140Z
LOCATION:SVP-Stand Zentrum Hombrechtikon\; 17.03.2018: Buure Zmorge\, Dorfplatz Horgen
DESCRIPTION:
SUMMARY:Rapport de session avec Roger Köppel
ORGANIZER:
URL;VALUE=URI:https://www.udc.ch/actualites/agenda/rapport-de-session-avec-roger-koppel/
TRANSP:OPAQUE
END:VEVENT
END:VCALENDAR
