

BEGIN:VCALENDAR
VERSION:2.0
PRODID:-//UDC Suisse //NONSGML Events //EN
CALSCALE:GREGORIAN
X-WR-CALNAME:UDC Suisse
BEGIN:VEVENT
CREATED:20180314T104841Z
UID:10969
DTEND:20180317T110000
DTSTART:20180317T103000
DTSTAMP:20260420T194301Z
LOCATION:Buure Zmorge\, Dorfplatz Horgen
DESCRIPTION:
SUMMARY:Rapport de session avec Roger Köppel
ORGANIZER:
URL;VALUE=URI:https://www.udc.ch/actualites/agenda/rapport-de-session-avec-roger-koppel-2/
TRANSP:OPAQUE
END:VEVENT
END:VCALENDAR
