

BEGIN:VCALENDAR
VERSION:2.0
PRODID:-//UDC Suisse //NONSGML Events //EN
CALSCALE:GREGORIAN
X-WR-CALNAME:UDC Suisse
BEGIN:VEVENT
CREATED:20180314T105043Z
UID:10973
DTEND:20180411T000000
DTSTART:20180411T000000
DTSTAMP:20260420T205441Z
LOCATION:Generalversammlung SVP Egg
DESCRIPTION:
SUMMARY:Rapport de session avec Roger Köppel
ORGANIZER:
URL;VALUE=URI:https://www.udc.ch/actualites/agenda/rapport-de-session-avec-roger-koppel-4/
TRANSP:OPAQUE
END:VEVENT
END:VCALENDAR
