

BEGIN:VCALENDAR
VERSION:2.0
PRODID:-//UDC Suisse //NONSGML Events //EN
CALSCALE:GREGORIAN
X-WR-CALNAME:UDC Suisse
BEGIN:VEVENT
CREATED:20180314T105151Z
UID:10975
DTEND:20180323T000000
DTSTART:20180323T000000
DTSTAMP:20260423T090730Z
LOCATION:SVP Stand Higa Chur
DESCRIPTION:
SUMMARY:Rapport de session avec Magdalena Martullo
ORGANIZER:
URL;VALUE=URI:https://www.udc.ch/actualites/agenda/rapport-de-session-avec-magdalena-martullo/
TRANSP:OPAQUE
END:VEVENT
END:VCALENDAR
