

BEGIN:VCALENDAR
VERSION:2.0
PRODID:-//UDC Suisse //NONSGML Events //EN
CALSCALE:GREGORIAN
X-WR-CALNAME:UDC Suisse
BEGIN:VEVENT
CREATED:20180314T105222Z
UID:10977
DTEND:20180324T000000
DTSTART:20180324T000000
DTSTAMP:20260420T171727Z
LOCATION:SVP Stand Higa Chur
DESCRIPTION:
SUMMARY:Rapport de session avec Magdalena Martullo
ORGANIZER:
URL;VALUE=URI:https://www.udc.ch/actualites/agenda/rapport-de-session-avec-magdalena-martullo-2/
TRANSP:OPAQUE
END:VEVENT
END:VCALENDAR
