

BEGIN:VCALENDAR
VERSION:2.0
PRODID:-//UDC Suisse //NONSGML Events //EN
CALSCALE:GREGORIAN
X-WR-CALNAME:UDC Suisse
BEGIN:VEVENT
CREATED:20180314T105401Z
UID:10980
DTEND:20180319T210000
DTSTART:20180319T180000
DTSTAMP:20260421T061015Z
LOCATION:Restaurant Löwen\, Meilen
DESCRIPTION:
SUMMARY:Rapport de session avec Thomas Matter
ORGANIZER:
URL;VALUE=URI:https://www.udc.ch/actualites/agenda/rapport-de-session-avec-thomas-matter/
TRANSP:OPAQUE
END:VEVENT
END:VCALENDAR
