

BEGIN:VCALENDAR
VERSION:2.0
PRODID:-//UDC Suisse //NONSGML Events //EN
CALSCALE:GREGORIAN
X-WR-CALNAME:UDC Suisse
BEGIN:VEVENT
CREATED:20180314T105502Z
UID:10982
DTEND:20180319T210000
DTSTART:20180319T200000
DTSTAMP:20260423T090803Z
LOCATION:Restaurant Hafen-Treff\, Hauptstrasse 65\, 9323 Steinach
DESCRIPTION:
SUMMARY:Rapport de session avec Thomas Müller
ORGANIZER:
URL;VALUE=URI:https://www.udc.ch/actualites/agenda/rapport-de-session-avec-thomas-muller/
TRANSP:OPAQUE
END:VEVENT
END:VCALENDAR
