

BEGIN:VCALENDAR
VERSION:2.0
PRODID:-//UDC Suisse //NONSGML Events //EN
CALSCALE:GREGORIAN
X-WR-CALNAME:UDC Suisse
BEGIN:VEVENT
CREATED:20180314T105620Z
UID:10984
DTEND:20180304T140000
DTSTART:20180304T110000
DTSTAMP:20260420T225435Z
LOCATION:Hof von Hansueli Salzmann\, Krieggasse 4\, Oberburg
DESCRIPTION:
SUMMARY:Rapport de session avec Nadja Pieren
ORGANIZER:
URL;VALUE=URI:https://www.udc.ch/actualites/agenda/rapport-de-session-avec-nadja-pieren/
TRANSP:OPAQUE
END:VEVENT
END:VCALENDAR
