

BEGIN:VCALENDAR
VERSION:2.0
PRODID:-//UDC Suisse //NONSGML Events //EN
CALSCALE:GREGORIAN
X-WR-CALNAME:UDC Suisse
BEGIN:VEVENT
CREATED:20180314T105831Z
UID:10987
DTEND:20180325T160000
DTSTART:20180325T153000
DTSTAMP:20260421T042443Z
LOCATION:Sternen Neumühle\, Zollbrück
DESCRIPTION:
SUMMARY:Rapport de session avec Nadja Pieren
ORGANIZER:
URL;VALUE=URI:https://www.udc.ch/actualites/agenda/rapport-de-session-avec-nadja-pieren-3/
TRANSP:OPAQUE
END:VEVENT
END:VCALENDAR
