

BEGIN:VCALENDAR
VERSION:2.0
PRODID:-//UDC Suisse //NONSGML Events //EN
CALSCALE:GREGORIAN
X-WR-CALNAME:UDC Suisse
BEGIN:VEVENT
CREATED:20180314T110249Z
UID:10995
DTEND:20180417T200000
DTSTART:20180417T190000
DTSTAMP:20260420T212859Z
LOCATION:Hotel Touring\, Naters
DESCRIPTION:
SUMMARY:Rapport de session avec Franz Ruppen
ORGANIZER:
URL;VALUE=URI:https://www.udc.ch/actualites/agenda/rapport-de-session-avec-franz-ruppen/
TRANSP:OPAQUE
END:VEVENT
END:VCALENDAR
