

BEGIN:VCALENDAR
VERSION:2.0
PRODID:-//UDC Suisse //NONSGML Events //EN
CALSCALE:GREGORIAN
X-WR-CALNAME:UDC Suisse
BEGIN:VEVENT
CREATED:20180314T110458Z
UID:10999
DTEND:20180302T200000
DTSTART:20180302T190000
DTSTAMP:20260423T090905Z
LOCATION:MZH St. Stephan
DESCRIPTION:
SUMMARY:Rapport de session avec Werner Salzmann
ORGANIZER:
URL;VALUE=URI:https://www.udc.ch/actualites/agenda/rapport-de-session-avec-werner-salzmann-2/
TRANSP:OPAQUE
END:VEVENT
END:VCALENDAR
