

BEGIN:VCALENDAR
VERSION:2.0
PRODID:-//UDC Suisse //NONSGML Events //EN
CALSCALE:GREGORIAN
X-WR-CALNAME:UDC Suisse
BEGIN:VEVENT
CREATED:20180314T110534Z
UID:11000
DTEND:20180305T210000
DTSTART:20180305T200000
DTSTAMP:20260423T090735Z
LOCATION:Lanzenhäusern
DESCRIPTION:
SUMMARY:Rapport de session avec Werner Salzmann
ORGANIZER:
URL;VALUE=URI:https://www.udc.ch/actualites/agenda/rapport-de-session-avec-werner-salzmann-3/
TRANSP:OPAQUE
END:VEVENT
END:VCALENDAR
