

BEGIN:VCALENDAR
VERSION:2.0
PRODID:-//UDC Suisse //NONSGML Events //EN
CALSCALE:GREGORIAN
X-WR-CALNAME:UDC Suisse
BEGIN:VEVENT
CREATED:20180314T111136Z
UID:11009
DTEND:20180603T200000
DTSTART:20180603T150000
DTSTAMP:20260420T190341Z
LOCATION:Dorffest Dällikon\, SVP-Beiz
DESCRIPTION:
SUMMARY:Rapport de session avec Barbara Steinemann
ORGANIZER:
URL;VALUE=URI:https://www.udc.ch/actualites/agenda/rapport-de-session-avec-barbara-steinemann/
TRANSP:OPAQUE
END:VEVENT
END:VCALENDAR
