

BEGIN:VCALENDAR
VERSION:2.0
PRODID:-//UDC Suisse //NONSGML Events //EN
CALSCALE:GREGORIAN
X-WR-CALNAME:UDC Suisse
BEGIN:VEVENT
CREATED:20180314T111303Z
UID:11011
DTEND:20180322T110000
DTSTART:20180322T090000
DTSTAMP:20260420T194605Z
LOCATION:Standaktion\, Gemeindehausplatz\, 8604 Volketswil
DESCRIPTION:
SUMMARY:Rapport de session avec Bruno Walliser
ORGANIZER:
URL;VALUE=URI:https://www.udc.ch/actualites/agenda/rapport-de-session-avec-bruno-walliser/
TRANSP:OPAQUE
END:VEVENT
END:VCALENDAR
