

BEGIN:VCALENDAR
VERSION:2.0
PRODID:-//UDC Suisse //NONSGML Events //EN
CALSCALE:GREGORIAN
X-WR-CALNAME:UDC Suisse
BEGIN:VEVENT
CREATED:20180317T034859Z
UID:11020
DTEND:20180317T120000
DTSTART:20180317T100000
DTSTAMP:20260421T080211Z
LOCATION:Savièse\, Migros
DESCRIPTION:
SUMMARY:Journée nationale de récolte (Savièse)
ORGANIZER:
URL;VALUE=URI:https://www.udc.ch/actualites/agenda/journee-nationale-de-recolte-saviese/
TRANSP:OPAQUE
END:VEVENT
END:VCALENDAR
