

BEGIN:VCALENDAR
VERSION:2.0
PRODID:-//UDC Suisse //NONSGML Events //EN
CALSCALE:GREGORIAN
X-WR-CALNAME:UDC Suisse
BEGIN:VEVENT
CREATED:20180317T035702Z
UID:11023
DTEND:20180317T120000
DTSTART:20180317T100000
DTSTAMP:20260420T194051Z
LOCATION:Vernayaz\, Denner
DESCRIPTION:
SUMMARY:Journée nationale de récolte (Vernayaz)
ORGANIZER:
URL;VALUE=URI:https://www.udc.ch/actualites/agenda/journee-nationale-de-recolte-saviese-3/
TRANSP:OPAQUE
END:VEVENT
END:VCALENDAR
