

BEGIN:VCALENDAR
VERSION:2.0
PRODID:-//UDC Suisse //NONSGML Events //EN
CALSCALE:GREGORIAN
X-WR-CALNAME:UDC Suisse
BEGIN:VEVENT
CREATED:20180406T095642Z
UID:11313
DTEND:20180413T200000
DTSTART:20180413T190000
DTSTAMP:20260420T194153Z
LOCATION:Gartenhotel Sternen\, Domat/Ems
DESCRIPTION:
SUMMARY:« Politik aus Bern und Graubünden » mit Nationalrätin Magdalena Martullo-Blocher\, SVP-Regierungsratskandidat Walter Schlegel und SVP-Grossratskandidat Ruben Durisch
ORGANIZER:
URL;VALUE=URI:https://www.udc.ch/actualites/agenda/politik-aus-bern-und-graubunden-mit-nationalratin-magdalena-martullo-blocher-svp-regierungsratskandidat-walter-schlegel-und-svp-grossratskandidat-ruben-durisch/
TRANSP:OPAQUE
END:VEVENT
END:VCALENDAR
