

BEGIN:VCALENDAR
VERSION:2.0
PRODID:-//UDC Suisse //NONSGML Events //EN
CALSCALE:GREGORIAN
X-WR-CALNAME:UDC Suisse
BEGIN:VEVENT
CREATED:20230614T064321Z
UID:114264
DTEND:20230720T210000
DTSTART:20230720T200000
DTSTAMP:20260421T004152Z
LOCATION:Markthalle\, 3400 Burgdorf
DESCRIPTION:
SUMMARY:UDC proche de vous avec le conseiller national Andreas Aebi
ORGANIZER:
URL;VALUE=URI:https://www.udc.ch/actualites/agenda/udc-proche-de-vous-avec-le-conseiller-national-andreas-aebi/
TRANSP:OPAQUE
END:VEVENT
END:VCALENDAR
