

BEGIN:VCALENDAR
VERSION:2.0
PRODID:-//UDC Suisse //NONSGML Events //EN
CALSCALE:GREGORIAN
X-WR-CALNAME:UDC Suisse
BEGIN:VEVENT
CREATED:20230614T064321Z
UID:114265
DTEND:20230620T200000
DTSTART:20230620T193000
DTSTAMP:20260421T004254Z
LOCATION:Seminarhotel\, Seestrasse 10\, Unterägeri
DESCRIPTION:
SUMMARY:UDC proche de vous avec le conseiller national Thomas Aeschi
ORGANIZER:
URL;VALUE=URI:https://www.udc.ch/actualites/agenda/udc-proche-de-vous-avec-le-conseiller-national-thomas-aeschi-2/
TRANSP:OPAQUE
END:VEVENT
END:VCALENDAR
