

BEGIN:VCALENDAR
VERSION:2.0
PRODID:-//UDC Suisse //NONSGML Events //EN
CALSCALE:GREGORIAN
X-WR-CALNAME:UDC Suisse
BEGIN:VEVENT
CREATED:20230614T064322Z
UID:114268
DTEND:20230602T210000
DTSTART:20230602T201500
DTSTAMP:20260420T194356Z
LOCATION:Parkhotel\, Rheinfelden
DESCRIPTION:
SUMMARY:UDC proche de vous avec la conseillère nationale Martina Bircher
ORGANIZER:
URL;VALUE=URI:https://www.udc.ch/actualites/agenda/udc-proche-de-vous-avec-la-conseillere-nationale-martina-bircher-2/
TRANSP:OPAQUE
END:VEVENT
END:VCALENDAR
