

BEGIN:VCALENDAR
VERSION:2.0
PRODID:-//UDC Suisse //NONSGML Events //EN
CALSCALE:GREGORIAN
X-WR-CALNAME:UDC Suisse
BEGIN:VEVENT
CREATED:20230614T064322Z
UID:114269
DTEND:20230706T210000
DTSTART:20230706T200000
DTSTAMP:20260420T190303Z
LOCATION:Restaurant Kantonsgrenze\, zwischen Herisau/AR und Degersheim/SG
DESCRIPTION:
SUMMARY:UDC proche de vous avec le conseiller national David Zuberbühler\, Lukas Reimann et Mike Egger
ORGANIZER:
URL;VALUE=URI:https://www.udc.ch/actualites/agenda/udc-proche-de-vous-avec-le-conseiller-national-david-zuberbu%cc%88hler-lukas-reimann-und-mike-egger/
TRANSP:OPAQUE
END:VEVENT
END:VCALENDAR
