

BEGIN:VCALENDAR
VERSION:2.0
PRODID:-//UDC Suisse //NONSGML Events //EN
CALSCALE:GREGORIAN
X-WR-CALNAME:UDC Suisse
BEGIN:VEVENT
CREATED:20230614T064322Z
UID:114270
DTEND:20230622T210000
DTSTART:20230622T200000
DTSTAMP:20260422T192915Z
LOCATION:Schüpbachs Burehofbeizli Nyffenegg Hutwil
DESCRIPTION:
SUMMARY:UDC proche de vous avec la conseillère nationale Andrea Geissbühler
ORGANIZER:
URL;VALUE=URI:https://www.udc.ch/actualites/agenda/udc-proche-de-vous-avec-la-conseillere-nationale-andrea-geissbu%cc%88hler/
TRANSP:OPAQUE
END:VEVENT
END:VCALENDAR
