

BEGIN:VCALENDAR
VERSION:2.0
PRODID:-//UDC Suisse //NONSGML Events //EN
CALSCALE:GREGORIAN
X-WR-CALNAME:UDC Suisse
BEGIN:VEVENT
CREATED:20230614T064322Z
UID:114271
DTEND:20230707T200000
DTSTART:20230707T190000
DTSTAMP:20260421T023844Z
LOCATION:Restaurant Kleefeld\, Bern-Bümpliz
DESCRIPTION:
SUMMARY:UDC proche de vous avec le conseiller national Erich Hess
ORGANIZER:
URL;VALUE=URI:https://www.udc.ch/actualites/agenda/udc-proche-de-vous-avec-le-conseiller-national-erich-hess/
TRANSP:OPAQUE
END:VEVENT
END:VCALENDAR
