

BEGIN:VCALENDAR
VERSION:2.0
PRODID:-//UDC Suisse //NONSGML Events //EN
CALSCALE:GREGORIAN
X-WR-CALNAME:UDC Suisse
BEGIN:VEVENT
CREATED:20230614T064322Z
UID:114273
DTEND:20230609T200000
DTSTART:20230609T190000
DTSTAMP:20260421T042403Z
LOCATION:FEG Thierachern\, Mühlestrasse 14E\, Thierachern
DESCRIPTION:
SUMMARY:UDC proche de vous avec le conseiller aux États Werner Salzmann
ORGANIZER:
URL;VALUE=URI:https://www.udc.ch/actualites/agenda/udc-proche-de-vous-avec-le-conseiller-aux-etats-werner-salzmann/
TRANSP:OPAQUE
END:VEVENT
END:VCALENDAR
