

BEGIN:VCALENDAR
VERSION:2.0
PRODID:-//UDC Suisse //NONSGML Events //EN
CALSCALE:GREGORIAN
X-WR-CALNAME:UDC Suisse
BEGIN:VEVENT
CREATED:20230614T064322Z
UID:114274
DTEND:20230616T210000
DTSTART:20230616T200000
DTSTAMP:20260420T224931Z
LOCATION:Landgasthof Schönbühl\, Urtenen-Schönbühl
DESCRIPTION:
SUMMARY:UDC proche de vous avec le conseiller national Lars Guggisberg
ORGANIZER:
URL;VALUE=URI:https://www.udc.ch/actualites/agenda/udc-proche-de-vous-avec-le-conseiller-national-lars-guggisberg-2/
TRANSP:OPAQUE
END:VEVENT
END:VCALENDAR
