

BEGIN:VCALENDAR
VERSION:2.0
PRODID:-//UDC Suisse //NONSGML Events //EN
CALSCALE:GREGORIAN
X-WR-CALNAME:UDC Suisse
BEGIN:VEVENT
CREATED:20230614T064322Z
UID:114275
DTEND:20230703T200000
DTSTART:20230703T190000
DTSTAMP:20260421T094319Z
LOCATION:Cabane de Verte-Joux\, Malleray
DESCRIPTION:
SUMMARY:UDC proche de vous avec le conseiller national Manfred Bühler
ORGANIZER:
URL;VALUE=URI:https://www.udc.ch/actualites/agenda/udc-proche-de-vous-avec-le-conseiller-national-manfred-bu%cc%88hler/
TRANSP:OPAQUE
END:VEVENT
END:VCALENDAR
