

BEGIN:VCALENDAR
VERSION:2.0
PRODID:-//UDC Suisse //NONSGML Events //EN
CALSCALE:GREGORIAN
X-WR-CALNAME:UDC Suisse
BEGIN:VEVENT
CREATED:20230614T064322Z
UID:114276
DTEND:20230831T190000
DTSTART:20230831T183000
DTSTAMP:20260420T230243Z
LOCATION:KUSPO\, Pratteln
DESCRIPTION:
SUMMARY:UDC proche de vous avec le conseiller national Thomas de Courten et la conseillère nationale Sandra Sollberger
ORGANIZER:
URL;VALUE=URI:https://www.udc.ch/actualites/agenda/udc-proche-de-vous-avec-le-conseiller-national-thomas-de-courten-und-la-conseillere-nationale-sandra-sollberger/
TRANSP:OPAQUE
END:VEVENT
END:VCALENDAR
