

BEGIN:VCALENDAR
VERSION:2.0
PRODID:-//UDC Suisse //NONSGML Events //EN
CALSCALE:GREGORIAN
X-WR-CALNAME:UDC Suisse
BEGIN:VEVENT
CREATED:20230614T064322Z
UID:114277
DTEND:20230617T110000
DTSTART:20230617T100000
DTSTAMP:20260421T022741Z
LOCATION:Vor dem Rathaus\, Altstadt Luzern
DESCRIPTION:
SUMMARY:UDC proche de vous avec la conseillère nationale Yvette Estermann
ORGANIZER:
URL;VALUE=URI:https://www.udc.ch/actualites/agenda/udc-proche-de-vous-avec-la-conseillere-nationale-yvette-estermann-2/
TRANSP:OPAQUE
END:VEVENT
END:VCALENDAR
