

BEGIN:VCALENDAR
VERSION:2.0
PRODID:-//UDC Suisse //NONSGML Events //EN
CALSCALE:GREGORIAN
X-WR-CALNAME:UDC Suisse
BEGIN:VEVENT
CREATED:20230614T064322Z
UID:114278
DTEND:20230621T200000
DTSTART:20230621T190000
DTSTAMP:20260421T145739Z
LOCATION:Sport Rock Cafe\, Wydenmatt 8\, Willisau
DESCRIPTION:
SUMMARY:UDC proche de vous avec le conseiller national Franz Grüter
ORGANIZER:
URL;VALUE=URI:https://www.udc.ch/actualites/agenda/udc-proche-de-vous-avec-le-conseiller-national-franz-gru%cc%88ter/
TRANSP:OPAQUE
END:VEVENT
END:VCALENDAR
