

BEGIN:VCALENDAR
VERSION:2.0
PRODID:-//UDC Suisse //NONSGML Events //EN
CALSCALE:GREGORIAN
X-WR-CALNAME:UDC Suisse
BEGIN:VEVENT
CREATED:20230614T064323Z
UID:114279
DTEND:20230617T110000
DTSTART:20230617T100000
DTSTAMP:20260420T225350Z
LOCATION:Marché de Versoix
DESCRIPTION:
SUMMARY:UDC proche de vous avec la conseillère nationale Céline Amaudruz et le conseiller national Thomas Bläsi
ORGANIZER:
URL;VALUE=URI:https://www.udc.ch/actualites/agenda/udc-proche-de-vous-avec-la-conseillere-nationale-celine-amaudruz-und-le-conseiller-national-thomas-blasi/
TRANSP:OPAQUE
END:VEVENT
END:VCALENDAR
