

BEGIN:VCALENDAR
VERSION:2.0
PRODID:-//UDC Suisse //NONSGML Events //EN
CALSCALE:GREGORIAN
X-WR-CALNAME:UDC Suisse
BEGIN:VEVENT
CREATED:20230614T064323Z
UID:114281
DTEND:20230617T103000
DTSTART:20230617T093000
DTSTAMP:20260420T194751Z
LOCATION:Restaurant Schlüssel\, Hergiswil
DESCRIPTION:
SUMMARY:UDC proche de vous avec le conseiller national Peter Keller
ORGANIZER:
URL;VALUE=URI:https://www.udc.ch/actualites/agenda/udc-proche-de-vous-avec-le-conseiller-national-peter-keller/
TRANSP:OPAQUE
END:VEVENT
END:VCALENDAR
