

BEGIN:VCALENDAR
VERSION:2.0
PRODID:-//UDC Suisse //NONSGML Events //EN
CALSCALE:GREGORIAN
X-WR-CALNAME:UDC Suisse
BEGIN:VEVENT
CREATED:20230614T064323Z
UID:114282
DTEND:20230623T200000
DTSTART:20230623T190000
DTSTAMP:20260420T225335Z
LOCATION:EWO Stanserstrasse 8\, Kerns
DESCRIPTION:
SUMMARY:UDC proche de vous avec le conseiller fédéral Albert Rösti et la conseillère nationale Monika Rüegger
ORGANIZER:
URL;VALUE=URI:https://www.udc.ch/actualites/agenda/udc-proche-de-vous-avec-le-conseiller-federal-albert-rosti-et-la-conseillere-nationale-monika-ruegger/
TRANSP:OPAQUE
END:VEVENT
END:VCALENDAR
