

BEGIN:VCALENDAR
VERSION:2.0
PRODID:-//UDC Suisse //NONSGML Events //EN
CALSCALE:GREGORIAN
X-WR-CALNAME:UDC Suisse
BEGIN:VEVENT
CREATED:20230614T064323Z
UID:114283
DTEND:20230630T130000
DTSTART:20230630T120000
DTSTAMP:20260421T023814Z
LOCATION:Gewerbetreffen\, Schwyz
DESCRIPTION:
SUMMARY:UDC proche de vous avec la conseillère nationale Magdalena Martullo-Blocher
ORGANIZER:
URL;VALUE=URI:https://www.udc.ch/actualites/agenda/udc-proche-de-vous-avec-la-conseillere-nationale-magdalena-martullo-blocher/
TRANSP:OPAQUE
END:VEVENT
END:VCALENDAR
