

BEGIN:VCALENDAR
VERSION:2.0
PRODID:-//UDC Suisse //NONSGML Events //EN
CALSCALE:GREGORIAN
X-WR-CALNAME:UDC Suisse
BEGIN:VEVENT
CREATED:20230614T064323Z
UID:114284
DTEND:20230707T180000
DTSTART:20230707T170000
DTSTAMP:20260421T131556Z
LOCATION:Promenade in Davos
DESCRIPTION:
SUMMARY:UDC proche de vous avec la conseillère nationale Magdalena Martullo-Blocher
ORGANIZER:
URL;VALUE=URI:https://www.udc.ch/actualites/agenda/udc-proche-de-vous-avec-la-conseillere-nationale-magdalena-martullo-blocher-2/
TRANSP:OPAQUE
END:VEVENT
END:VCALENDAR
