

BEGIN:VCALENDAR
VERSION:2.0
PRODID:-//UDC Suisse //NONSGML Events //EN
CALSCALE:GREGORIAN
X-WR-CALNAME:UDC Suisse
BEGIN:VEVENT
CREATED:20230614T064323Z
UID:114285
DTEND:20230804T150000
DTSTART:20230804T140000
DTSTAMP:20260420T194816Z
LOCATION:Scuntrada Dorfmarkt\, Savognin
DESCRIPTION:
SUMMARY:UDC proche de vous avec la conseillère nationale Magdalena Martullo-Blocher
ORGANIZER:
URL;VALUE=URI:https://www.udc.ch/actualites/agenda/udc-proche-de-vous-avec-la-conseillere-nationale-magdalena-martullo-blocher-3/
TRANSP:OPAQUE
END:VEVENT
END:VCALENDAR
