

BEGIN:VCALENDAR
VERSION:2.0
PRODID:-//UDC Suisse //NONSGML Events //EN
CALSCALE:GREGORIAN
X-WR-CALNAME:UDC Suisse
BEGIN:VEVENT
CREATED:20230614T064323Z
UID:114286
DTEND:20230616T200000
DTSTART:20230616T193000
DTSTAMP:20260421T073338Z
LOCATION:Restaurant Grabachern\, Selzach
DESCRIPTION:
SUMMARY:UDC proche de vous avec le conseiller national Christian Imark
ORGANIZER:
URL;VALUE=URI:https://www.udc.ch/actualites/agenda/udc-proche-de-vous-avec-le-conseiller-national-christian-imark/
TRANSP:OPAQUE
END:VEVENT
END:VCALENDAR
