

BEGIN:VCALENDAR
VERSION:2.0
PRODID:-//UDC Suisse //NONSGML Events //EN
CALSCALE:GREGORIAN
X-WR-CALNAME:UDC Suisse
BEGIN:VEVENT
CREATED:20230614T064323Z
UID:114287
DTEND:20230609T200000
DTSTART:20230609T190000
DTSTAMP:20260420T214424Z
LOCATION:Spiess Holzbau GmbH\, Neumatt 712\, Kleinlützel
DESCRIPTION:
SUMMARY:UDC proche de vous avec le conseiller national Walter Wobmann
ORGANIZER:
URL;VALUE=URI:https://www.udc.ch/actualites/agenda/udc-proche-de-vous-avec-le-conseiller-national-walter-wobmann/
TRANSP:OPAQUE
END:VEVENT
END:VCALENDAR
