

BEGIN:VCALENDAR
VERSION:2.0
PRODID:-//UDC Suisse //NONSGML Events //EN
CALSCALE:GREGORIAN
X-WR-CALNAME:UDC Suisse
BEGIN:VEVENT
CREATED:20230614T064323Z
UID:114288
DTEND:20230603T90000
DTSTART:20230603T083000
DTSTAMP:20260420T172316Z
LOCATION:Fronwagplatz\, Schaffhausen
DESCRIPTION:
SUMMARY:UDC proche de vous avec le conseiller aux États Hannes Germann et le conseiller national Thomas Hurter
ORGANIZER:
URL;VALUE=URI:https://www.udc.ch/actualites/agenda/udc-proche-de-vous-avec-le-conseiller-aux-etats-hannes-germann-und-le-conseiller-national-thomas-hurter/
TRANSP:OPAQUE
END:VEVENT
END:VCALENDAR
