

BEGIN:VCALENDAR
VERSION:2.0
PRODID:-//UDC Suisse //NONSGML Events //EN
CALSCALE:GREGORIAN
X-WR-CALNAME:UDC Suisse
BEGIN:VEVENT
CREATED:20230614T064323Z
UID:114289
DTEND:20230603T200000
DTSTART:20230603T193000
DTSTAMP:20260420T195547Z
LOCATION:Buechberghalle\, Wangen
DESCRIPTION:
SUMMARY:UDC proche de vous avec le conseiller national Pirmin Schwander und le conseiller national Marcel Dettling
ORGANIZER:
URL;VALUE=URI:https://www.udc.ch/actualites/agenda/udc-proche-de-vous-avec-le-conseiller-national-pirmin-schwander-und-le-conseiller-national-marcel-dettling/
TRANSP:OPAQUE
END:VEVENT
END:VCALENDAR
