

BEGIN:VCALENDAR
VERSION:2.0
PRODID:-//UDC Suisse //NONSGML Events //EN
CALSCALE:GREGORIAN
X-WR-CALNAME:UDC Suisse
BEGIN:VEVENT
CREATED:20230614T064323Z
UID:114290
DTEND:20230629T210000
DTSTART:20230629T200000
DTSTAMP:20260420T172423Z
LOCATION:Restaurant Husmatt\, Steinen
DESCRIPTION:
SUMMARY:UDC proche de vous avec le conseiller national Pirmin Schwander et le conseiller national Marcel Dettling
ORGANIZER:
URL;VALUE=URI:https://www.udc.ch/actualites/agenda/udc-proche-de-vous-avec-le-conseiller-national-pirmin-schwander-und-le-conseiller-national-marcel-dettling-2/
TRANSP:OPAQUE
END:VEVENT
END:VCALENDAR
