

BEGIN:VCALENDAR
VERSION:2.0
PRODID:-//UDC Suisse //NONSGML Events //EN
CALSCALE:GREGORIAN
X-WR-CALNAME:UDC Suisse
BEGIN:VEVENT
CREATED:20230614T064323Z
UID:114291
DTEND:20230711T190000
DTSTART:20230711T183000
DTSTAMP:20260420T172433Z
LOCATION:Hotel Unione\, Via Henri Guisan 1\, Bellinzona
DESCRIPTION:
SUMMARY:UDC proche de vous avec le conseiller aux États Marco Chiesa et le conseiller national Piero Marchesi
ORGANIZER:
URL;VALUE=URI:https://www.udc.ch/actualites/agenda/udc-proche-de-vous-avec-le-conseiller-aux-etats-marco-chiesa-und-le-conseiller-national-piero-marchesi/
TRANSP:OPAQUE
END:VEVENT
END:VCALENDAR
