

BEGIN:VCALENDAR
VERSION:2.0
PRODID:-//UDC Suisse //NONSGML Events //EN
CALSCALE:GREGORIAN
X-WR-CALNAME:UDC Suisse
BEGIN:VEVENT
CREATED:20230614T064324Z
UID:114292
DTEND:20230622T200000
DTSTART:20230622T190000
DTSTAMP:20260421T131727Z
LOCATION:Landgasthof Sonne\, Haus der Freiheit\, Wintersberg
DESCRIPTION:
SUMMARY:UDC proche de vous avec la conseillère aux États Esther Friedli
ORGANIZER:
URL;VALUE=URI:https://www.udc.ch/actualites/agenda/udc-proche-de-vous-avec-la-conseillere-aux-etats-esther-friedli/
TRANSP:OPAQUE
END:VEVENT
END:VCALENDAR
