

BEGIN:VCALENDAR
VERSION:2.0
PRODID:-//UDC Suisse //NONSGML Events //EN
CALSCALE:GREGORIAN
X-WR-CALNAME:UDC Suisse
BEGIN:VEVENT
CREATED:20230614T064324Z
UID:114293
DTEND:20230710T210000
DTSTART:20230710T200000
DTSTAMP:20260420T114438Z
LOCATION:Hafen-Treff\, Steinach
DESCRIPTION:
SUMMARY:UDC proche de vous avec le conseiller national Michael Götte
ORGANIZER:
URL;VALUE=URI:https://www.udc.ch/actualites/agenda/udc-proche-de-vous-avec-le-conseiller-national-michael-gotte/
TRANSP:OPAQUE
END:VEVENT
END:VCALENDAR
