

BEGIN:VCALENDAR
VERSION:2.0
PRODID:-//UDC Suisse //NONSGML Events //EN
CALSCALE:GREGORIAN
X-WR-CALNAME:UDC Suisse
BEGIN:VEVENT
CREATED:20230614T064324Z
UID:114294
DTEND:20230609T210000
DTSTART:20230609T200000
DTSTAMP:20260421T185611Z
LOCATION:Winzerhof Weber\, Schlossweg 4\, Oberriet
DESCRIPTION:
SUMMARY:UDC proche de vous avec le conseiller national Roland Rino Büchel
ORGANIZER:
URL;VALUE=URI:https://www.udc.ch/actualites/agenda/udc-proche-de-vous-avec-le-conseiller-national-roland-rino-bu%cc%88chel-3/
TRANSP:OPAQUE
END:VEVENT
END:VCALENDAR
