

BEGIN:VCALENDAR
VERSION:2.0
PRODID:-//UDC Suisse //NONSGML Events //EN
CALSCALE:GREGORIAN
X-WR-CALNAME:UDC Suisse
BEGIN:VEVENT
CREATED:20230614T064324Z
UID:114295
DTEND:20230708T180000
DTSTART:20230708T170000
DTSTAMP:20260421T042919Z
LOCATION:Stand am Strassenfestiwal\, Amriswil Marktplatz
DESCRIPTION:
SUMMARY:UDC proche de vous avec le conseiller aux États Jakob Stark\, la conseillère nationale Diana Gutjahr\, Verena Herzog-Schläpfer et le conseiller national Manuel Strupler
ORGANIZER:
URL;VALUE=URI:https://www.udc.ch/actualites/agenda/udc-proche-de-vous-avec-le-conseiller-aux-etats-jakob-stark-la-conseillere-nationale-diana-gutjahr-verena-herzog-schlapfer-und-le-conseiller-national-manuel-strupler/
TRANSP:OPAQUE
END:VEVENT
END:VCALENDAR
