

BEGIN:VCALENDAR
VERSION:2.0
PRODID:-//UDC Suisse //NONSGML Events //EN
CALSCALE:GREGORIAN
X-WR-CALNAME:UDC Suisse
BEGIN:VEVENT
CREATED:20230614T064324Z
UID:114296
DTEND:20230621T200000
DTSTART:20230621T190000
DTSTAMP:20260420T172438Z
LOCATION:Gemeindesaal\, Gemeindeplatz 1\, Aadorf
DESCRIPTION:
SUMMARY:UDC proche de vous avec le conseiller national Manuel Strupler
ORGANIZER:
URL;VALUE=URI:https://www.udc.ch/actualites/agenda/udc-proche-de-vous-avec-le-conseiller-national-manuel-strupler/
TRANSP:OPAQUE
END:VEVENT
END:VCALENDAR
