

BEGIN:VCALENDAR
VERSION:2.0
PRODID:-//UDC Suisse //NONSGML Events //EN
CALSCALE:GREGORIAN
X-WR-CALNAME:UDC Suisse
BEGIN:VEVENT
CREATED:20230614T064324Z
UID:114297
DTEND:20230916T160000
DTSTART:20230916T150000
DTSTAMP:20260421T113006Z
LOCATION:Lalden
DESCRIPTION:
SUMMARY:UDC proche de vous avec le conseiller national Michael Graber
ORGANIZER:
URL;VALUE=URI:https://www.udc.ch/actualites/agenda/udc-proche-de-vous-avec-le-conseiller-national-michael-graber-2/
TRANSP:OPAQUE
END:VEVENT
END:VCALENDAR
