

BEGIN:VCALENDAR
VERSION:2.0
PRODID:-//UDC Suisse //NONSGML Events //EN
CALSCALE:GREGORIAN
X-WR-CALNAME:UDC Suisse
BEGIN:VEVENT
CREATED:20230614T064324Z
UID:114299
DTEND:20230617T100000
DTSTART:20230617T093000
DTSTAMP:20260421T042834Z
LOCATION:Ortsmuseum\, Urdorf
DESCRIPTION:
SUMMARY:UDC proche de vous avec la conseillère nationale Barbara Steinemann
ORGANIZER:
URL;VALUE=URI:https://www.udc.ch/actualites/agenda/udc-proche-de-vous-avec-la-conseillere-nationale-barbara-steinemann/
TRANSP:OPAQUE
END:VEVENT
END:VCALENDAR
