

BEGIN:VCALENDAR
VERSION:2.0
PRODID:-//UDC Suisse //NONSGML Events //EN
CALSCALE:GREGORIAN
X-WR-CALNAME:UDC Suisse
BEGIN:VEVENT
CREATED:20230614T064324Z
UID:114300
DTEND:20230617T200000
DTSTART:20230617T190000
DTSTAMP:20260421T061328Z
LOCATION:SVP-Stand am Dorffest\, Niederglatt
DESCRIPTION:
SUMMARY:UDC proche de vous avec la conseillère nationale Barbara Steinemann\, Bruno Walliser et Gregor Rutz
ORGANIZER:
URL;VALUE=URI:https://www.udc.ch/actualites/agenda/udc-proche-de-vous-avec-la-conseillere-nationale-barbara-steinemann-bruno-walliser-und-gregor-rutz/
TRANSP:OPAQUE
END:VEVENT
END:VCALENDAR
