

BEGIN:VCALENDAR
VERSION:2.0
PRODID:-//UDC Suisse //NONSGML Events //EN
CALSCALE:GREGORIAN
X-WR-CALNAME:UDC Suisse
BEGIN:VEVENT
CREATED:20230614T064324Z
UID:114301
DTEND:20230827T210000
DTSTART:20230827T200000
DTSTAMP:20260421T094328Z
LOCATION:Chilbi Lindau\, SVP-Pizzazelt
DESCRIPTION:
SUMMARY:UDC proche de vous avec le conseiller national Martin Haab et Benjamin Fischer
ORGANIZER:
URL;VALUE=URI:https://www.udc.ch/actualites/agenda/udc-proche-de-vous-avec-le-conseiller-national-martin-haab-und-benjamin-fischer/
TRANSP:OPAQUE
END:VEVENT
END:VCALENDAR
